Package: arrayMvout Version: 1.69.0 Command: /home/biocbuild/bbs-3.23-bioc/R/bin/R CMD build --keep-empty-dirs --no-resave-data arrayMvout StartedAt: 2025-11-07 16:12:12 -0500 (Fri, 07 Nov 2025) EndedAt: 2025-11-07 16:13:18 -0500 (Fri, 07 Nov 2025) EllapsedTime: 66.0 seconds RetCode: 0 Status: OK PackageFile: arrayMvout_1.69.0.tar.gz PackageFileSize: 692.8 KiB