Package: arrayMvout Version: 1.69.0 Maintainer: V. Carey MaintainerEmail: stvjc at channing.harvard.edu git_url: https://git.bioconductor.org/packages/arrayMvout git_branch: devel git_last_commit: 285aeb3 git_last_commit_date: 2025-10-29 10:01:48 -0500 (Wed, 29 Oct 2025)