Package: apComplex Version: 2.77.0 Maintainer: Denise Scholtens MaintainerEmail: dscholtens at northwestern.edu git_url: https://git.bioconductor.org/packages/apComplex git_branch: devel git_last_commit: c10f18a git_last_commit_date: 2025-10-29 09:55:56 -0500 (Wed, 29 Oct 2025)