Package: annotatr Version: 1.37.0 Command: /home/biocbuild/bbs-3.23-bioc/R/bin/R CMD INSTALL annotatr StartedAt: 2025-11-09 15:42:06 -0500 (Sun, 09 Nov 2025) EndedAt: 2025-11-09 15:42:50 -0500 (Sun, 09 Nov 2025) EllapsedTime: 43.8 seconds RetCode: 0 Status: OK