Package: annotatr Version: 1.37.0 Command: /home/biocbuild/bbs-3.23-bioc/R/bin/R CMD build --keep-empty-dirs --no-resave-data annotatr StartedAt: 2025-11-07 16:11:31 -0500 (Fri, 07 Nov 2025) EndedAt: 2025-11-07 16:14:09 -0500 (Fri, 07 Nov 2025) EllapsedTime: 157.2 seconds RetCode: 0 Status: OK PackageFile: annotatr_1.37.0.tar.gz PackageFileSize: 2.652 MiB