Package: annotatr Version: 1.37.0 Maintainer: Raymond G. Cavalcante MaintainerEmail: rcavalca at umich.edu git_url: https://git.bioconductor.org/packages/annotatr git_branch: devel git_last_commit: 3e6ad83 git_last_commit_date: 2025-10-29 10:35:13 -0500 (Wed, 29 Oct 2025)