Package: annotationTools Version: 1.85.0 Command: /home/biocbuild/bbs-3.23-bioc/R/bin/R CMD INSTALL annotationTools StartedAt: 2025-11-09 15:12:12 -0500 (Sun, 09 Nov 2025) EndedAt: 2025-11-09 15:12:15 -0500 (Sun, 09 Nov 2025) EllapsedTime: 3.2 seconds RetCode: 0 Status: OK