Package: alabaster.spatial Version: 1.11.0 Command: /home/biocbuild/bbs-3.23-bioc/R/bin/R CMD INSTALL alabaster.spatial StartedAt: 2025-11-21 15:35:08 -0500 (Fri, 21 Nov 2025) EndedAt: 2025-11-21 15:35:37 -0500 (Fri, 21 Nov 2025) EllapsedTime: 28.9 seconds RetCode: 0 Status: OK