Package: alabaster.spatial Version: 1.11.0 Command: /home/biocbuild/bbs-3.23-bioc/R/bin/R CMD build --keep-empty-dirs --no-resave-data alabaster.spatial StartedAt: 2025-11-21 16:10:08 -0500 (Fri, 21 Nov 2025) EndedAt: 2025-11-21 16:10:52 -0500 (Fri, 21 Nov 2025) EllapsedTime: 44.1 seconds RetCode: 0 Status: OK PackageFile: alabaster.spatial_1.11.0.tar.gz PackageFileSize: 628.6 KiB