Package: alabaster.bumpy Version: 1.11.0 Command: /home/biocbuild/bbs-3.23-bioc/R/bin/R CMD build --keep-empty-dirs --no-resave-data alabaster.bumpy StartedAt: 2025-11-13 16:09:09 -0500 (Thu, 13 Nov 2025) EndedAt: 2025-11-13 16:09:27 -0500 (Thu, 13 Nov 2025) EllapsedTime: 18.0 seconds RetCode: 0 Status: OK PackageFile: alabaster.bumpy_1.11.0.tar.gz PackageFileSize: 235.5 KiB