Package: alabaster.base Version: 1.11.1 Command: /home/biocbuild/bbs-3.23-bioc/R/bin/R CMD INSTALL alabaster.base StartedAt: 2025-11-23 15:14:55 -0500 (Sun, 23 Nov 2025) EndedAt: 2025-11-23 15:16:19 -0500 (Sun, 23 Nov 2025) EllapsedTime: 84.0 seconds RetCode: 0 Status: OK