Package: aggregateBioVar Version: 1.21.0 Command: /home/biocbuild/bbs-3.23-bioc/R/bin/R CMD INSTALL aggregateBioVar StartedAt: 2025-11-07 15:19:39 -0500 (Fri, 07 Nov 2025) EndedAt: 2025-11-07 15:20:01 -0500 (Fri, 07 Nov 2025) EllapsedTime: 22.2 seconds RetCode: 0 Status: OK