Package: aggregateBioVar Version: 1.21.0 Maintainer: Jason Ratcliff MaintainerEmail: jason-ratcliff at uiowa.edu git_url: https://git.bioconductor.org/packages/aggregateBioVar git_branch: devel git_last_commit: b0e2560 git_last_commit_date: 2025-10-29 11:02:45 -0500 (Wed, 29 Oct 2025)