Package: a4Preproc Version: 1.59.0 Maintainer: Laure Cougnaud MaintainerEmail: laure.cougnaud at openanalytics.eu git_url: https://git.bioconductor.org/packages/a4Preproc git_branch: devel git_last_commit: 921a89b git_last_commit_date: 2025-10-29 10:07:23 -0500 (Wed, 29 Oct 2025)