Package: a4Core Version: 1.59.0 Command: /home/biocbuild/bbs-3.23-bioc/R/bin/R CMD build --keep-empty-dirs --no-resave-data a4Core StartedAt: 2025-11-07 16:07:22 -0500 (Fri, 07 Nov 2025) EndedAt: 2025-11-07 16:07:31 -0500 (Fri, 07 Nov 2025) EllapsedTime: 9.0 seconds RetCode: 0 Status: OK PackageFile: a4Core_1.59.0.tar.gz PackageFileSize: 290.5 KiB