Package: a4Classif Version: 1.59.0 Command: /home/biocbuild/bbs-3.23-bioc/R/bin/R CMD INSTALL a4Classif StartedAt: 2025-11-23 15:14:16 -0500 (Sun, 23 Nov 2025) EndedAt: 2025-11-23 15:14:22 -0500 (Sun, 23 Nov 2025) EllapsedTime: 6.2 seconds RetCode: 0 Status: OK