Package: a4Base Version: 1.59.0 Command: /home/biocbuild/bbs-3.23-bioc/R/bin/R CMD build --keep-empty-dirs --no-resave-data a4Base StartedAt: 2025-11-07 16:07:22 -0500 (Fri, 07 Nov 2025) EndedAt: 2025-11-07 16:07:23 -0500 (Fri, 07 Nov 2025) EllapsedTime: 1.0 seconds RetCode: 0 Status: OK PackageFile: a4Base_1.59.0.tar.gz PackageFileSize: 366.5 KiB