Package: a4Base Version: 1.59.0 Maintainer: Laure Cougnaud MaintainerEmail: laure.cougnaud at openanalytics.eu git_url: https://git.bioconductor.org/packages/a4Base git_branch: devel git_last_commit: 2ae8314 git_last_commit_date: 2025-10-29 10:07:20 -0500 (Wed, 29 Oct 2025)