Package: XeniumIO Version: 1.3.0 Maintainer: Marcel Ramos MaintainerEmail: marcel.ramos at sph.cuny.edu git_url: https://git.bioconductor.org/packages/XeniumIO git_branch: devel git_last_commit: dfaaa90 git_last_commit_date: 2025-10-29 11:34:29 -0500 (Wed, 29 Oct 2025)