Package: VplotR Version: 1.21.0 Command: /home/biocbuild/bbs-3.23-bioc/R/bin/R CMD INSTALL VplotR StartedAt: 2025-11-07 15:50:11 -0500 (Fri, 07 Nov 2025) EndedAt: 2025-11-07 15:50:42 -0500 (Fri, 07 Nov 2025) EllapsedTime: 30.9 seconds RetCode: 0 Status: OK