Package: VplotR Version: 1.21.0 Command: /home/biocbuild/bbs-3.23-bioc/R/bin/R CMD build --keep-empty-dirs --no-resave-data VplotR StartedAt: 2025-11-07 20:40:04 -0500 (Fri, 07 Nov 2025) EndedAt: 2025-11-07 20:41:12 -0500 (Fri, 07 Nov 2025) EllapsedTime: 67.1 seconds RetCode: 1 Status: ERROR PackageFile: None PackageFileSize: NA