Package: VplotR Version: 1.21.0 Maintainer: Jacques Serizay MaintainerEmail: jacquesserizay at gmail.com git_url: https://git.bioconductor.org/packages/VplotR git_branch: devel git_last_commit: c54c82d git_last_commit_date: 2025-10-29 11:01:33 -0500 (Wed, 29 Oct 2025)