Package: VariantTools Version: 1.53.0 Command: /home/biocbuild/bbs-3.23-bioc/R/bin/R CMD INSTALL VariantTools StartedAt: 2025-11-09 15:43:00 -0500 (Sun, 09 Nov 2025) EndedAt: 2025-11-09 15:43:42 -0500 (Sun, 09 Nov 2025) EllapsedTime: 41.1 seconds RetCode: 0 Status: OK