Package: VariantTools Version: 1.53.0 Maintainer: Michael Lawrence MaintainerEmail: lawremi at gmail.com git_url: https://git.bioconductor.org/packages/VariantTools git_branch: devel git_last_commit: 4083347 git_last_commit_date: 2025-10-29 10:12:36 -0500 (Wed, 29 Oct 2025)