Package: VariantFiltering Version: 1.47.0 Maintainer: Robert Castelo MaintainerEmail: robert.castelo at upf.edu git_url: https://git.bioconductor.org/packages/VariantFiltering git_branch: devel git_last_commit: 270d88d git_last_commit_date: 2025-10-29 10:19:08 -0500 (Wed, 29 Oct 2025)