Package: VariantExperiment Version: 1.25.0 Command: /home/biocbuild/bbs-3.23-bioc/R/bin/R CMD INSTALL VariantExperiment StartedAt: 2025-11-20 15:24:29 -0500 (Thu, 20 Nov 2025) EndedAt: 2025-11-20 15:24:53 -0500 (Thu, 20 Nov 2025) EllapsedTime: 24.6 seconds RetCode: 0 Status: OK