Package: UCSC.utils Version: 1.7.0 Command: /home/biocbuild/bbs-3.23-bioc/R/bin/R CMD INSTALL UCSC.utils StartedAt: 2025-11-07 15:12:48 -0500 (Fri, 07 Nov 2025) EndedAt: 2025-11-07 15:12:52 -0500 (Fri, 07 Nov 2025) EllapsedTime: 4.0 seconds RetCode: 0 Status: OK