Package: TurboNorm Version: 1.59.0 Command: /home/biocbuild/bbs-3.23-bioc/R/bin/R CMD build --keep-empty-dirs --no-resave-data TurboNorm StartedAt: 2025-11-21 20:37:10 -0500 (Fri, 21 Nov 2025) EndedAt: 2025-11-21 20:37:23 -0500 (Fri, 21 Nov 2025) EllapsedTime: 13.0 seconds RetCode: 0 Status: OK PackageFile: TurboNorm_1.59.0.tar.gz PackageFileSize: 2.021 MiB