Package: TreeSummarizedExperiment Version: 2.19.0 Maintainer: Ruizhu Huang MaintainerEmail: ruizhuRH at gmail.com git_url: https://git.bioconductor.org/packages/TreeSummarizedExperiment git_branch: devel git_last_commit: d592bc4 git_last_commit_date: 2025-10-29 10:52:27 -0500 (Wed, 29 Oct 2025)