Package: TileDBArray Version: 1.21.0 Command: /home/biocbuild/bbs-3.23-bioc/R/bin/R CMD build --keep-empty-dirs --no-resave-data TileDBArray StartedAt: 2025-11-07 20:27:35 -0500 (Fri, 07 Nov 2025) EndedAt: 2025-11-07 20:28:06 -0500 (Fri, 07 Nov 2025) EllapsedTime: 31.0 seconds RetCode: 0 Status: OK PackageFile: TileDBArray_1.21.0.tar.gz PackageFileSize: 305.1 KiB