Package: TargetScore Version: 1.49.0 Command: /home/biocbuild/bbs-3.23-bioc/R/bin/R CMD INSTALL TargetScore StartedAt: 2025-11-18 15:57:42 -0500 (Tue, 18 Nov 2025) EndedAt: 2025-11-18 15:57:51 -0500 (Tue, 18 Nov 2025) EllapsedTime: 8.7 seconds RetCode: 0 Status: OK