Package: TargetScore Version: 1.49.0 Command: /home/biocbuild/bbs-3.23-bioc/R/bin/R CMD build --keep-empty-dirs --no-resave-data TargetScore StartedAt: 2025-11-18 21:17:55 -0500 (Tue, 18 Nov 2025) EndedAt: 2025-11-18 21:18:12 -0500 (Tue, 18 Nov 2025) EllapsedTime: 17.0 seconds RetCode: 0 Status: OK PackageFile: TargetScore_1.49.0.tar.gz PackageFileSize: 1.232 MiB