Package: TCseq Version: 1.35.0 Command: /home/biocbuild/bbs-3.23-bioc/R/bin/R CMD INSTALL TCseq StartedAt: 2025-11-14 15:34:55 -0500 (Fri, 14 Nov 2025) EndedAt: 2025-11-14 15:35:24 -0500 (Fri, 14 Nov 2025) EllapsedTime: 28.9 seconds RetCode: 0 Status: OK