Package: TCseq Version: 1.35.0 Command: /home/biocbuild/bbs-3.23-bioc/R/bin/R CMD build --keep-empty-dirs --no-resave-data TCseq StartedAt: 2025-11-14 20:27:56 -0500 (Fri, 14 Nov 2025) EndedAt: 2025-11-14 20:28:40 -0500 (Fri, 14 Nov 2025) EllapsedTime: 44.3 seconds RetCode: 0 Status: OK PackageFile: TCseq_1.35.0.tar.gz PackageFileSize: 1.114 MiB