Package: TCGAutils Version: 1.31.1 Command: /home/biocbuild/bbs-3.23-bioc/R/bin/R CMD INSTALL TCGAutils StartedAt: 2025-11-09 15:43:06 -0500 (Sun, 09 Nov 2025) EndedAt: 2025-11-09 15:43:44 -0500 (Sun, 09 Nov 2025) EllapsedTime: 37.9 seconds RetCode: 0 Status: OK