Package: TCGAutils Version: 1.31.1 Command: /home/biocbuild/bbs-3.23-bioc/R/bin/R CMD build --keep-empty-dirs --no-resave-data TCGAutils StartedAt: 2025-11-09 20:23:38 -0500 (Sun, 09 Nov 2025) EndedAt: 2025-11-09 20:26:28 -0500 (Sun, 09 Nov 2025) EllapsedTime: 170.4 seconds RetCode: 0 Status: OK PackageFile: TCGAutils_1.31.1.tar.gz PackageFileSize: 405.6 KiB