Package: TCGAutils Version: 1.31.1 Maintainer: Marcel Ramos MaintainerEmail: marcel.ramos at sph.cuny.edu git_url: https://git.bioconductor.org/packages/TCGAutils git_branch: devel git_last_commit: 014a2cf git_last_commit_date: 2025-11-06 17:11:08 -0500 (Thu, 06 Nov 2025)