Package: SynExtend Version: 1.23.0 Command: /home/biocbuild/bbs-3.23-bioc/R/bin/R CMD INSTALL SynExtend StartedAt: 2025-11-07 15:34:26 -0500 (Fri, 07 Nov 2025) EndedAt: 2025-11-07 15:34:53 -0500 (Fri, 07 Nov 2025) EllapsedTime: 26.9 seconds RetCode: 0 Status: OK