Package: SynExtend Version: 1.23.0 Command: /home/biocbuild/bbs-3.23-bioc/R/bin/R CMD build --keep-empty-dirs --no-resave-data SynExtend StartedAt: 2025-11-07 20:22:05 -0500 (Fri, 07 Nov 2025) EndedAt: 2025-11-07 20:23:10 -0500 (Fri, 07 Nov 2025) EllapsedTime: 65.1 seconds RetCode: 0 Status: OK PackageFile: SynExtend_1.23.0.tar.gz PackageFileSize: 3.13 MiB