Package: SubCellBarCode Version: 1.27.0 Command: /home/biocbuild/bbs-3.23-bioc/R/bin/R CMD INSTALL SubCellBarCode StartedAt: 2025-11-09 15:25:44 -0500 (Sun, 09 Nov 2025) EndedAt: 2025-11-09 15:26:07 -0500 (Sun, 09 Nov 2025) EllapsedTime: 22.9 seconds RetCode: 0 Status: OK