Package: StructuralVariantAnnotation Version: 1.27.0 Command: /home/biocbuild/bbs-3.23-bioc/R/bin/R CMD INSTALL StructuralVariantAnnotation StartedAt: 2025-11-09 15:50:18 -0500 (Sun, 09 Nov 2025) EndedAt: 2025-11-09 15:50:57 -0500 (Sun, 09 Nov 2025) EllapsedTime: 39.5 seconds RetCode: 0 Status: OK