Package: StructuralVariantAnnotation Version: 1.27.0 Maintainer: Daniel Cameron MaintainerEmail: daniel.l.cameron at gmail.com git_url: https://git.bioconductor.org/packages/StructuralVariantAnnotation git_branch: devel git_last_commit: 72cd374 git_last_commit_date: 2025-10-29 10:52:25 -0500 (Wed, 29 Oct 2025)