Package: Structstrings Version: 1.27.0 Command: /home/biocbuild/bbs-3.23-bioc/R/bin/R CMD INSTALL Structstrings StartedAt: 2025-11-07 15:17:04 -0500 (Fri, 07 Nov 2025) EndedAt: 2025-11-07 15:17:21 -0500 (Fri, 07 Nov 2025) EllapsedTime: 16.6 seconds RetCode: 0 Status: OK