Package: Structstrings Version: 1.27.0 Command: /home/biocbuild/bbs-3.23-bioc/R/bin/R CMD build --keep-empty-dirs --no-resave-data Structstrings StartedAt: 2025-11-07 20:19:01 -0500 (Fri, 07 Nov 2025) EndedAt: 2025-11-07 20:19:28 -0500 (Fri, 07 Nov 2025) EllapsedTime: 27.0 seconds RetCode: 0 Status: OK PackageFile: Structstrings_1.27.0.tar.gz PackageFileSize: 373.5 KiB