Package: Structstrings Version: 1.27.0 Maintainer: Felix G.M. Ernst MaintainerEmail: felix.gm.ernst at outlook.com git_url: https://git.bioconductor.org/packages/Structstrings git_branch: devel git_last_commit: 983c850 git_last_commit_date: 2025-10-29 10:50:44 -0500 (Wed, 29 Oct 2025)