Package: StabMap Version: 1.5.0 Command: /home/biocbuild/bbs-3.23-bioc/R/bin/R CMD build --keep-empty-dirs --no-resave-data StabMap StartedAt: 2025-11-07 20:17:52 -0500 (Fri, 07 Nov 2025) EndedAt: 2025-11-07 20:23:41 -0500 (Fri, 07 Nov 2025) EllapsedTime: 349.3 seconds RetCode: 0 Status: OK PackageFile: StabMap_1.5.0.tar.gz PackageFileSize: 1.911 MiB