Package: StabMap Version: 1.5.0 Maintainer: Shila Ghazanfar MaintainerEmail: shazanfar at gmail.com git_url: https://git.bioconductor.org/packages/StabMap git_branch: devel git_last_commit: 05ee46d git_last_commit_date: 2025-10-29 11:31:21 -0500 (Wed, 29 Oct 2025)