Package: SplicingGraphs Version: 1.51.1 Command: /home/biocbuild/bbs-3.23-bioc/R/bin/R CMD INSTALL SplicingGraphs StartedAt: 2025-11-09 15:39:02 -0500 (Sun, 09 Nov 2025) EndedAt: 2025-11-09 15:39:42 -0500 (Sun, 09 Nov 2025) EllapsedTime: 40.6 seconds RetCode: 0 Status: OK