Package: SplicingGraphs Version: 1.51.1 Maintainer: H. Pagès MaintainerEmail: hpages.on.github at gmail.com git_url: https://git.bioconductor.org/packages/SplicingGraphs git_branch: devel git_last_commit: 8abbef9 git_last_commit_date: 2025-11-02 12:50:45 -0500 (Sun, 02 Nov 2025)