Package: SplicingFactory Version: 1.19.0 Maintainer: Endre Sebestyen MaintainerEmail: endre.sebestyen at gmail.com git_url: https://git.bioconductor.org/packages/SplicingFactory git_branch: devel git_last_commit: e9a3630 git_last_commit_date: 2025-10-29 11:05:02 -0500 (Wed, 29 Oct 2025)